1.0000000000
0.0000000000
0.0000000000
-1.0000000000
695814.5000000000
4673775.5000000000
