1.0000000000
0.0000000000
0.0000000000
-1.0000000000
711090.5000000000
4681176.5000000000
