1.0000000000
0.0000000000
0.0000000000
-1.0000000000
711299.5000000000
4674236.5000000000
