1.0000000000
0.0000000000
0.0000000000
-1.0000000000
716246.5000000000
4681337.5000000000
