1.0000000000
0.0000000000
0.0000000000
-1.0000000000
716460.5000000000
4674396.5000000000
