1.0000000000
0.0000000000
0.0000000000
-1.0000000000
665010.5000000000
4666017.5000000000
