1.0000000000
0.0000000000
0.0000000000
-1.0000000000
670343.5000000000
4659204.5000000000
