1.0000000000
0.0000000000
0.0000000000
-1.0000000000
680509.5000000000
4666409.5000000000
