1.0000000000
0.0000000000
0.0000000000
-1.0000000000
675342.5000000000
4666275.5000000000
