1.0000000000
0.0000000000
0.0000000000
-1.0000000000
680686.5000000000
4659469.5000000000
