1.0000000000
0.0000000000
0.0000000000
-1.0000000000
690841.5000000000
4666690.5000000000
