1.0000000000
0.0000000000
0.0000000000
-1.0000000000
685675.5000000000
4666548.5000000000
