1.0000000000
0.0000000000
0.0000000000
-1.0000000000
586474.5000000000
4747852.5000000000
