1.0000000000
0.0000000000
0.0000000000
-1.0000000000
591579.5000000000
4747922.5000000000
