1.0000000000
0.0000000000
0.0000000000
-1.0000000000
596781.5000000000
4741055.5000000000
