1.0000000000
0.0000000000
0.0000000000
-1.0000000000
606893.5000000000
4748155.5000000000
