1.0000000000
0.0000000000
0.0000000000
-1.0000000000
607001.5000000000
4741214.5000000000
