1.0000000000
0.0000000000
0.0000000000
-1.0000000000
601891.5000000000
4741133.5000000000
