1.0000000000
0.0000000000
0.0000000000
-1.0000000000
617102.5000000000
4748329.5000000000
