1.0000000000
0.0000000000
0.0000000000
-1.0000000000
611997.5000000000
4748240.5000000000
