1.0000000000
0.0000000000
0.0000000000
-1.0000000000
637660.5000000000
4741783.5000000000
