1.0000000000
0.0000000000
0.0000000000
-1.0000000000
632550.5000000000
4741679.5000000000
