1.0000000000
0.0000000000
0.0000000000
-1.0000000000
642626.5000000000
4748832.5000000000
