1.0000000000
0.0000000000
0.0000000000
-1.0000000000
647880.5000000000
4742003.5000000000
