1.0000000000
0.0000000000
0.0000000000
-1.0000000000
642770.5000000000
4741891.5000000000
