1.0000000000
0.0000000000
0.0000000000
-1.0000000000
658100.5000000000
4742238.5000000000
