1.0000000000
0.0000000000
0.0000000000
-1.0000000000
581534.5000000000
4733904.5000000000
