1.0000000000
0.0000000000
0.0000000000
-1.0000000000
586736.5000000000
4727030.5000000000
