1.0000000000
0.0000000000
0.0000000000
-1.0000000000
581616.5000000000
4726964.5000000000
