1.0000000000
0.0000000000
0.0000000000
-1.0000000000
596879.5000000000
4734115.5000000000
