1.0000000000
0.0000000000
0.0000000000
-1.0000000000
591856.5000000000
4727100.5000000000
