1.0000000000
0.0000000000
0.0000000000
-1.0000000000
601994.5000000000
4734192.5000000000
