1.0000000000
0.0000000000
0.0000000000
-1.0000000000
612224.5000000000
4734359.5000000000
