1.0000000000
0.0000000000
0.0000000000
-1.0000000000
637799.5000000000
4734843.5000000000
