1.0000000000
0.0000000000
0.0000000000
-1.0000000000
632817.5000000000
4727798.5000000000
