1.0000000000
0.0000000000
0.0000000000
-1.0000000000
648029.5000000000
4735062.5000000000
