1.0000000000
0.0000000000
0.0000000000
-1.0000000000
642914.5000000000
4734951.5000000000
