1.0000000000
0.0000000000
0.0000000000
-1.0000000000
643058.5000000000
4728010.5000000000
