1.0000000000
0.0000000000
0.0000000000
-1.0000000000
653144.5000000000
4735178.5000000000
