1.0000000000
0.0000000000
0.0000000000
-1.0000000000
658418.5000000000
4728357.5000000000
