1.0000000000
0.0000000000
0.0000000000
-1.0000000000
586823.5000000000
4720090.5000000000
