1.0000000000
0.0000000000
0.0000000000
-1.0000000000
586910.5000000000
4713150.5000000000
