1.0000000000
0.0000000000
0.0000000000
-1.0000000000
581780.5000000000
4713084.5000000000
