1.0000000000
0.0000000000
0.0000000000
-1.0000000000
597074.5000000000
4720234.5000000000
