1.0000000000
0.0000000000
0.0000000000
-1.0000000000
597171.5000000000
4713294.5000000000
