1.0000000000
0.0000000000
0.0000000000
-1.0000000000
592041.5000000000
4713220.5000000000
