1.0000000000
0.0000000000
0.0000000000
-1.0000000000
602199.5000000000
4720312.5000000000
