1.0000000000
0.0000000000
0.0000000000
-1.0000000000
607432.5000000000
4713453.5000000000
