1.0000000000
0.0000000000
0.0000000000
-1.0000000000
602302.5000000000
4713371.5000000000
