1.0000000000
0.0000000000
0.0000000000
-1.0000000000
612562.5000000000
4713538.5000000000
